BEGIN:VCALENDAR
PRODID:-//SINGPromos.com//NONSGML v1.0//EN
VERSION:2.0
CALSCALE:GREGORIAN
METHOD:PUBLISH
X-WR-CALNAME:SINGPromos.com
X-ORIGINAL-URL:http://singpromos.com
X-WR-CALDESC:Events for SINGPromos.com
BEGIN:VEVENT
DTSTART:20180209T000000
DTEND:20180312T235900
DTSTAMP:20260420T074733
CREATED:20180209T120316
LAST-MODIFIED:20180209T120355
UID:214062@http://singpromos.com
SUMMARY:Samsonite annual luggage trade-in is back - get up to 40% OFF S'Cure and Pixelon models! From 9 Feb - 12 Mar 2018
DESCRIPTION:Samsonite's annual luggage trade-in is back this year from 9 Feb to 12 Mar 2018! Trade-in your pre-loved luggage and get up to 40% off on S'Cure and Pixelon models.. For more information, visit [ http://singpromos.com/vacations/samsonite-annual-luggage-trade-in-is-back-get-up-to-40-off-scure-and-pixelon-models-from-9-feb-12-mar-2018-214062/ ]. 
LOCATION:
URL:http://singpromos.com/vacations/samsonite-annual-luggage-trade-in-is-back-get-up-to-40-off-scure-and-pixelon-models-from-9-feb-12-mar-2018-214062/
END:VEVENT
END:VCALENDAR