BEGIN:VCALENDAR
PRODID:-//SINGPromos.com//NONSGML v1.0//EN
VERSION:2.0
CALSCALE:GREGORIAN
METHOD:PUBLISH
X-WR-CALNAME:SINGPromos.com
X-ORIGINAL-URL:http://singpromos.com
X-WR-CALDESC:Events for SINGPromos.com
BEGIN:VEVENT
DTSTART:20180416T000000
DTEND:20180422T235900
DTSTAMP:20260420T055705
CREATED:20180421T123319
LAST-MODIFIED:20180421T123348
UID:216603@http://singpromos.com
SUMMARY:AIBI up to 70% OFF warehouse sale from 16 - 22 Apr 2018
DESCRIPTION:AIBI is having a Warehouse Sale for 5 days only till this Sunday 22 April 2018. Grab this best opportunity to save $$$ for more health, beauty and fitness.. For more information, visit [ http://singpromos.com/warehouse-sales/aibi-up-to-70-off-warehouse-sale-from-16-22-apr-2018-216603/ ]. 
LOCATION:768725
URL:http://singpromos.com/warehouse-sales/aibi-up-to-70-off-warehouse-sale-from-16-22-apr-2018-216603/
END:VEVENT
END:VCALENDAR