BEGIN:VCALENDAR
PRODID:-//SINGPromos.com//NONSGML v1.0//EN
VERSION:2.0
CALSCALE:GREGORIAN
METHOD:PUBLISH
X-WR-CALNAME:SINGPromos.com
X-ORIGINAL-URL:http://singpromos.com
X-WR-CALDESC:Events for SINGPromos.com
BEGIN:VEVENT
DTSTART:20180524T000000
DTEND:20180603T235900
DTSTAMP:20260419T223856
CREATED:20180524T104234
LAST-MODIFIED:20180522T105255
UID:217570@http://singpromos.com
SUMMARY:Robinsons up to 80% OFF Expo sale returns from 24 May - 3 Jun 2018
DESCRIPTION:Go BIG on savings with the Robinsons EXPO Sale!. For more information, visit [ http://singpromos.com/warehouse-sales/robinsons-up-to-80-off-expo-sale-returns-from-24-may-3-jun-2018-217570/ ]. 
LOCATION:486150
URL:http://singpromos.com/warehouse-sales/robinsons-up-to-80-off-expo-sale-returns-from-24-may-3-jun-2018-217570/
END:VEVENT
END:VCALENDAR