BEGIN:VCALENDAR
PRODID:-//SINGPromos.com//NONSGML v1.0//EN
VERSION:2.0
CALSCALE:GREGORIAN
METHOD:PUBLISH
X-WR-CALNAME:SINGPromos.com
X-ORIGINAL-URL:http://singpromos.com
X-WR-CALDESC:Events for SINGPromos.com
BEGIN:VEVENT
DTSTART:20180602T000000
DTEND:20180603T235900
DTSTAMP:20260420T031301
CREATED:20180601T112704
LAST-MODIFIED:20180601T134558
UID:217711@http://singpromos.com
SUMMARY:Brandt up to 80% OFF mid year sale from 2 - 3 Jun 2018
DESCRIPTION:Save more at the Brandt Mid Year Sale with massive discounts of up to 80% off!. For more information, visit [ http://singpromos.com/warehouse-sales/brandt-up-to-80-off-mid-year-sale-from-2-3-jun-2018-217711/ ]. 
LOCATION:319387
URL:http://singpromos.com/warehouse-sales/brandt-up-to-80-off-mid-year-sale-from-2-3-jun-2018-217711/
END:VEVENT
END:VCALENDAR