BEGIN:VCALENDAR
PRODID:-//SINGPromos.com//NONSGML v1.0//EN
VERSION:2.0
CALSCALE:GREGORIAN
METHOD:PUBLISH
X-WR-CALNAME:SINGPromos.com
X-ORIGINAL-URL:http://singpromos.com
X-WR-CALDESC:Events for SINGPromos.com
BEGIN:VEVENT
DTSTART:20180920T000000
DTEND:20180930T235900
DTSTAMP:20260419T235550
CREATED:20180919T123409
LAST-MODIFIED:20180919T185636
UID:220994@http://singpromos.com
SUMMARY:Robinsons up to 80% OFF Expo sale returns from 20 - 30 Sep 2018
DESCRIPTION:Go BIG on savings with the Robinsons EXPO Sale!. For more information, visit [ http://singpromos.com/warehouse-sales/robinsons-up-to-80-off-expo-sale-returns-from-20-30-sep-2018-220994/ ]. 
LOCATION:486150
URL:http://singpromos.com/warehouse-sales/robinsons-up-to-80-off-expo-sale-returns-from-20-30-sep-2018-220994/
END:VEVENT
END:VCALENDAR