BEGIN:VCALENDAR
PRODID:-//SINGPromos.com//NONSGML v1.0//EN
VERSION:2.0
CALSCALE:GREGORIAN
METHOD:PUBLISH
X-WR-CALNAME:SINGPromos.com
X-ORIGINAL-URL:http://singpromos.com
X-WR-CALDESC:Events for SINGPromos.com
BEGIN:VEVENT
DTSTART:20181005T000000
DTEND:20181007T235900
DTSTAMP:20260424T025957
CREATED:20181004T141149
LAST-MODIFIED:20181006T004307
UID:221443@http://singpromos.com
SUMMARY:Harvey Norman Electrical and IT World EXPO from 5 - 7 Oct 2018
DESCRIPTION:Harvey Norman is back with a 3-day sale. For more information, visit [ http://singpromos.com/warehouse-sales/harvey-norman-3-day-sale-at-singapore-expo-from-5-7-oct-2018-221443/ ]. 
LOCATION:486150
URL:http://singpromos.com/warehouse-sales/harvey-norman-3-day-sale-at-singapore-expo-from-5-7-oct-2018-221443/
END:VEVENT
END:VCALENDAR