BEGIN:VCALENDAR
PRODID:-//SINGPromos.com//NONSGML v1.0//EN
VERSION:2.0
CALSCALE:GREGORIAN
METHOD:PUBLISH
X-WR-CALNAME:SINGPromos.com
X-ORIGINAL-URL:http://singpromos.com
X-WR-CALDESC:Events for SINGPromos.com
BEGIN:VEVENT
DTSTART:20181017T000000
DTEND:20181021T235900
DTSTAMP:20260420T062107
CREATED:20181017T141436
LAST-MODIFIED:20181017T142330
UID:221672@http://singpromos.com
SUMMARY:Lock & Lock warehouse sale returns with discounts of up to 70% off from 17 - 21 Oct 2018
DESCRIPTION:Lock & Lock's & Algo's warehouse sale is BACK. For more information, visit [ http://singpromos.com/warehouse-sales/lock-lock-warehouse-sale-returns-with-discounts-of-up-to-70-off-from-17-21-oct-2018-221672/ ]. 
LOCATION:2 Pandan Avenue, 609382
URL:http://singpromos.com/warehouse-sales/lock-lock-warehouse-sale-returns-with-discounts-of-up-to-70-off-from-17-21-oct-2018-221672/
END:VEVENT
END:VCALENDAR