BEGIN:VCALENDAR
PRODID:-//SINGPromos.com//NONSGML v1.0//EN
VERSION:2.0
CALSCALE:GREGORIAN
METHOD:PUBLISH
X-WR-CALNAME:SINGPromos.com
X-ORIGINAL-URL:http://singpromos.com
X-WR-CALDESC:Events for SINGPromos.com
BEGIN:VEVENT
DTSTART:20181127T000000
DTEND:20181202T235900
DTSTAMP:20260422T190528
CREATED:20181126T164120
LAST-MODIFIED:20181126T214303
UID:222826@http://singpromos.com
SUMMARY:Hush Puppies, Obermain, Wanda Panda, Arezzo & more up to 70% OFF warehouse sale from 27 Nov - 2 Dec 2018
DESCRIPTION:Grab the best deals of up to 70% off on your favourite brands. For more information, visit [ http://singpromos.com/warehouse-sales/hush-puppies-obermain-wanda-panda-arezzo-more-up-to-70-off-warehouse-sale-from-27-nov-2-dec-2018-222826/ ]. 
LOCATION:12 Harper Road, 369677
URL:http://singpromos.com/warehouse-sales/hush-puppies-obermain-wanda-panda-arezzo-more-up-to-70-off-warehouse-sale-from-27-nov-2-dec-2018-222826/
END:VEVENT
END:VCALENDAR