BEGIN:VCALENDAR
PRODID:-//SINGPromos.com//NONSGML v1.0//EN
VERSION:2.0
CALSCALE:GREGORIAN
METHOD:PUBLISH
X-WR-CALNAME:SINGPromos.com
X-ORIGINAL-URL:http://singpromos.com
X-WR-CALDESC:Events for SINGPromos.com
BEGIN:VEVENT
DTSTART:20190307T000000
DTEND:20190317T235900
DTSTAMP:20260419T235635
CREATED:20190308T132119
LAST-MODIFIED:20190308T140841
UID:225785@http://singpromos.com
SUMMARY:Robinsons up to 80% OFF Expo sale returns from 7 - 17 Mar 2019
DESCRIPTION:Go BIG on savings with the Robinsons EXPO Sale!. For more information, visit [ http://singpromos.com/warehouse-sales/robinsons-up-to-80-off-expo-sale-returns-from-7-17-mar-2019-225785/ ]. 
LOCATION:486150
URL:http://singpromos.com/warehouse-sales/robinsons-up-to-80-off-expo-sale-returns-from-7-17-mar-2019-225785/
END:VEVENT
END:VCALENDAR