BEGIN:VCALENDAR
PRODID:-//SINGPromos.com//NONSGML v1.0//EN
VERSION:2.0
CALSCALE:GREGORIAN
METHOD:PUBLISH
X-WR-CALNAME:SINGPromos.com
X-ORIGINAL-URL:http://singpromos.com
X-WR-CALDESC:Events for SINGPromos.com
BEGIN:VEVENT
DTSTART:20190426T000000
DTEND:20190428T235900
DTSTAMP:20260420T045218
CREATED:20190422T001021
LAST-MODIFIED:20190419T111031
UID:226760@http://singpromos.com
SUMMARY:Brandt SAFRA Toa Payoh SALE: Up to 80% off with Sure Lucky Dip prizes (26th April - 28th April 2019)
DESCRIPTION:Up to 80% off at the Brandt SAFRA Toa Payoh SALE (26th April - 28th April 2019) with Sure Lucky Dip prizes that includes ''ALL PURCHASED ITEMS FREE" & many more!. For more information, visit [ http://singpromos.com/warehouse-sales/brandt-safra-toa-payoh-sale-up-to-80-off-with-sure-lucky-dip-prizes-26th-april-28th-april-2019-226760/ ]. 
LOCATION:319387
URL:http://singpromos.com/warehouse-sales/brandt-safra-toa-payoh-sale-up-to-80-off-with-sure-lucky-dip-prizes-26th-april-28th-april-2019-226760/
END:VEVENT
END:VCALENDAR