BEGIN:VCALENDAR
PRODID:-//SINGPromos.com//NONSGML v1.0//EN
VERSION:2.0
CALSCALE:GREGORIAN
METHOD:PUBLISH
X-WR-CALNAME:SINGPromos.com
X-ORIGINAL-URL:http://singpromos.com
X-WR-CALDESC:Events for SINGPromos.com
BEGIN:VEVENT
DTSTART:20190527T000000
DTEND:20190602T235900
DTSTAMP:20260422T080026
CREATED:20190527T115115
LAST-MODIFIED:20190530T145830
UID:227884@http://singpromos.com
SUMMARY:Creative CEE 2019 deals with discounts of up to 75% off are EXTENDED online till 2 Jun 2019
DESCRIPTION:Creative CEE 2019 deals are available online. For more information, visit [ http://singpromos.com/audio-visual/creative-cee-2019-deals-with-discounts-of-up-to-75-off-are-extended-online-till-2-jun-2019-227884/ ]. 
LOCATION:
URL:http://singpromos.com/audio-visual/creative-cee-2019-deals-with-discounts-of-up-to-75-off-are-extended-online-till-2-jun-2019-227884/
END:VEVENT
END:VCALENDAR