BEGIN:VCALENDAR
PRODID:-//SINGPromos.com//NONSGML v1.0//EN
VERSION:2.0
CALSCALE:GREGORIAN
METHOD:PUBLISH
X-WR-CALNAME:SINGPromos.com
X-ORIGINAL-URL:http://singpromos.com
X-WR-CALDESC:Events for SINGPromos.com
BEGIN:VEVENT
DTSTART:20190607T000000
DTEND:20190609T235900
DTSTAMP:20260424T025841
CREATED:20190607T010303
LAST-MODIFIED:20190608T002407
UID:228199@http://singpromos.com
SUMMARY:Harvey Norman Last Expo of Financial Year from 7 - 9 June 2019
DESCRIPTION:You don't want to miss the LAST EXPO of #HarveyNormanSG's Financial Year, for 3 DAYS ONLY!. For more information, visit [ http://singpromos.com/warehouse-sales/harvey-norman-last-expo-of-financial-year-from-7-9-june-2019-228199/ ]. 
LOCATION:486150
URL:http://singpromos.com/warehouse-sales/harvey-norman-last-expo-of-financial-year-from-7-9-june-2019-228199/
END:VEVENT
END:VCALENDAR