BEGIN:VCALENDAR
PRODID:-//SINGPromos.com//NONSGML v1.0//EN
VERSION:2.0
CALSCALE:GREGORIAN
METHOD:PUBLISH
X-WR-CALNAME:SINGPromos.com
X-ORIGINAL-URL:http://singpromos.com
X-WR-CALDESC:Events for SINGPromos.com
BEGIN:VEVENT
DTSTART:20190801T000000
DTEND:20190811T235900
DTSTAMP:20260419T235634
CREATED:20190802T135809
LAST-MODIFIED:20190802T141029
UID:229400@http://singpromos.com
SUMMARY:Robinsons up to 80% OFF Expo sale returns from 1 - 11 Aug 2019
DESCRIPTION:Go BIG on savings with the Robinsons EXPO Sale!. For more information, visit [ http://singpromos.com/warehouse-sales/robinsons-up-to-80-off-expo-sale-returns-from-1-11-aug-2019-229400/ ]. 
LOCATION:486150
URL:http://singpromos.com/warehouse-sales/robinsons-up-to-80-off-expo-sale-returns-from-1-11-aug-2019-229400/
END:VEVENT
END:VCALENDAR