BEGIN:VCALENDAR
PRODID:-//SINGPromos.com//NONSGML v1.0//EN
VERSION:2.0
CALSCALE:GREGORIAN
METHOD:PUBLISH
X-WR-CALNAME:SINGPromos.com
X-ORIGINAL-URL:http://singpromos.com
X-WR-CALDESC:Events for SINGPromos.com
BEGIN:VEVENT
DTSTART:20190815T000000
DTEND:20190817T235900
DTSTAMP:20260420T074733
CREATED:20190814T115419
LAST-MODIFIED:20190814T004938
UID:229679@http://singpromos.com
SUMMARY:Samsonite up to 70% off Friends & Family sale from 15 to 17 Aug 2019
DESCRIPTION:Don't miss Samsonite's Friends & Family sale from 15 to 17 Aug 2019,. For more information, visit [ http://singpromos.com/warehouse-sales/samsonite-up-to-70-off-friends-family-sale-from-15-to-17-aug-2019-229679/ ]. 
LOCATION:819664
URL:http://singpromos.com/warehouse-sales/samsonite-up-to-70-off-friends-family-sale-from-15-to-17-aug-2019-229679/
END:VEVENT
END:VCALENDAR