BEGIN:VCALENDAR
PRODID:-//SINGPromos.com//NONSGML v1.0//EN
VERSION:2.0
CALSCALE:GREGORIAN
METHOD:PUBLISH
X-WR-CALNAME:SINGPromos.com
X-ORIGINAL-URL:http://singpromos.com
X-WR-CALDESC:Events for SINGPromos.com
BEGIN:VEVENT
DTSTART:20190830T000000
DTEND:20190901T235900
DTSTAMP:20260424T025958
CREATED:20190830T012419
LAST-MODIFIED:20190831T133020
UID:229997@http://singpromos.com
SUMMARY:Harvey Norman Annual Electrical EXPO Sale from 30 August - 1 September 2019
DESCRIPTION:Get ready for #HarveyNormanSG's Annual Electrical EXPO Sale at Singapore EXPO Hall 6A.. For more information, visit [ http://singpromos.com/warehouse-sales/harvey-norman-annual-electrical-expo-sale-from-30-august-1-september-2019-229997/ ]. 
LOCATION:486150
URL:http://singpromos.com/warehouse-sales/harvey-norman-annual-electrical-expo-sale-from-30-august-1-september-2019-229997/
END:VEVENT
END:VCALENDAR