BEGIN:VCALENDAR
PRODID:-//SINGPromos.com//NONSGML v1.0//EN
VERSION:2.0
CALSCALE:GREGORIAN
METHOD:PUBLISH
X-WR-CALNAME:SINGPromos.com
X-ORIGINAL-URL:http://singpromos.com
X-WR-CALDESC:Events for SINGPromos.com
BEGIN:VEVENT
DTSTART:20191004T000000
DTEND:20191006T235900
DTSTAMP:20260424T025906
CREATED:20191004T134335
LAST-MODIFIED:20191004T144851
UID:231302@http://singpromos.com
SUMMARY:Harvey Norman Big Brands, Big EXPO Sale from 4 - 6 Oct 2019
DESCRIPTION:Wanna go BIG on your savings?. For more information, visit [ http://singpromos.com/warehouse-sales/harvey-norman-big-brands-big-expo-sale-from-4-6-oct-2019-231302/ ]. 
LOCATION:486150
URL:http://singpromos.com/warehouse-sales/harvey-norman-big-brands-big-expo-sale-from-4-6-oct-2019-231302/
END:VEVENT
END:VCALENDAR