BEGIN:VCALENDAR
PRODID:-//SINGPromos.com//NONSGML v1.0//EN
VERSION:2.0
CALSCALE:GREGORIAN
METHOD:PUBLISH
X-WR-CALNAME:SINGPromos.com
X-ORIGINAL-URL:http://singpromos.com
X-WR-CALDESC:Events for SINGPromos.com
BEGIN:VEVENT
DTSTART:20191024T000000
DTEND:20191103T235900
DTSTAMP:20260419T223902
CREATED:20191023T111727
LAST-MODIFIED:20191023T215228
UID:231845@http://singpromos.com
SUMMARY:Robinsons up to 80% OFF Expo sale returns from 24 Oct - 3 Nov 2019
DESCRIPTION:Go BIG on savings with the Robinsons EXPO Sale!. For more information, visit [ http://singpromos.com/warehouse-sales/robinsons-up-to-80-off-expo-sale-returns-from-24-oct-3-nov-2019-231845/ ]. 
LOCATION:486150
URL:http://singpromos.com/warehouse-sales/robinsons-up-to-80-off-expo-sale-returns-from-24-oct-3-nov-2019-231845/
END:VEVENT
END:VCALENDAR