BEGIN:VCALENDAR
PRODID:-//SINGPromos.com//NONSGML v1.0//EN
VERSION:2.0
CALSCALE:GREGORIAN
METHOD:PUBLISH
X-WR-CALNAME:SINGPromos.com
X-ORIGINAL-URL:http://singpromos.com
X-WR-CALDESC:Events for SINGPromos.com
BEGIN:VEVENT
DTSTART:20191127T000000
DTEND:20191201T235900
DTSTAMP:20260422T190528
CREATED:20191127T003352
LAST-MODIFIED:20191127T003352
UID:233086@http://singpromos.com
SUMMARY:Hush Puppies, Obermain, Wanda Panda, Arezzo & more warehouse sale from 27th November - 1st December 2019
DESCRIPTION:Enjoy up to 80% off on footwear, bags, small leather goods, and many more. For more information, visit [ http://singpromos.com/warehouse-sales/hush-puppies-obermain-wanda-panda-arezzo-more-warehouse-sale-from-27th-november-1st-december-2019-233086/ ]. 
LOCATION:12 Harper Road, 369677
URL:http://singpromos.com/warehouse-sales/hush-puppies-obermain-wanda-panda-arezzo-more-warehouse-sale-from-27th-november-1st-december-2019-233086/
END:VEVENT
END:VCALENDAR