BEGIN:VCALENDAR
PRODID:-//SINGPromos.com//NONSGML v1.0//EN
VERSION:2.0
CALSCALE:GREGORIAN
METHOD:PUBLISH
X-WR-CALNAME:SINGPromos.com
X-ORIGINAL-URL:http://singpromos.com
X-WR-CALDESC:Events for SINGPromos.com
BEGIN:VEVENT
DTSTART:20200109T000000
DTEND:20200112T235900
DTSTAMP:20260420T062108
CREATED:20200105T202230
LAST-MODIFIED:20200106T083436
UID:234512@http://singpromos.com
SUMMARY:Lock & Lock warehouse sale offers discounts of up to 70% off from 9 - 12 January 2020
DESCRIPTION:Lock & Lock's warehouse sales is back!. For more information, visit [ http://singpromos.com/warehouse-sales/lock-lock-warehouse-sale-offers-discounts-of-up-to-70-off-from-9-12-january-2020-234512/ ]. 
LOCATION:2 Pandan Avenue, 609382
URL:http://singpromos.com/warehouse-sales/lock-lock-warehouse-sale-offers-discounts-of-up-to-70-off-from-9-12-january-2020-234512/
END:VEVENT
END:VCALENDAR