BEGIN:VCALENDAR
PRODID:-//SINGPromos.com//NONSGML v1.0//EN
VERSION:2.0
CALSCALE:GREGORIAN
METHOD:PUBLISH
X-WR-CALNAME:SINGPromos.com
X-ORIGINAL-URL:http://singpromos.com
X-WR-CALDESC:Events for SINGPromos.com
BEGIN:VEVENT
DTSTART:20200903T000000
DTEND:20200913T235900
DTSTAMP:20260424T032318
CREATED:20200902T092750
LAST-MODIFIED:20200902T092750
UID:239686@http://singpromos.com
SUMMARY:King Koil Annual Warehouse Sales 2020 is back from 3 - 13 September 2020
DESCRIPTION:King Koil Annual Warehouse Sales 2020 is back!. For more information, visit [ http://singpromos.com/warehouse-sales/king-koil-annual-warehouse-sales-2020-is-back-from-3-13-september-2020-239686/ ]. 
LOCATION:
URL:http://singpromos.com/warehouse-sales/king-koil-annual-warehouse-sales-2020-is-back-from-3-13-september-2020-239686/
END:VEVENT
END:VCALENDAR