BEGIN:VCALENDAR
PRODID:-//SINGPromos.com//NONSGML v1.0//EN
VERSION:2.0
CALSCALE:GREGORIAN
METHOD:PUBLISH
X-WR-CALNAME:SINGPromos.com
X-ORIGINAL-URL:http://singpromos.com
X-WR-CALDESC:Events for SINGPromos.com
BEGIN:VEVENT
DTSTART:20201109T000000
DTEND:20201115T235900
DTSTAMP:20260420T062107
CREATED:20201109T104645
LAST-MODIFIED:20201109T104645
UID:241491@http://singpromos.com
SUMMARY:The North Face: 1-for-1 on regular-priced items till 15 November 2020
DESCRIPTION:Shop with The North Face and get your next item free!. For more information, visit [ http://singpromos.com/fashion-accessories/the-north-face-1-for-1-on-regular-priced-items-till-15-november-2020-241491/ ]. 
LOCATION:
URL:http://singpromos.com/fashion-accessories/the-north-face-1-for-1-on-regular-priced-items-till-15-november-2020-241491/
END:VEVENT
END:VCALENDAR