BEGIN:VCALENDAR
PRODID:-//SINGPromos.com//NONSGML v1.0//EN
VERSION:2.0
CALSCALE:GREGORIAN
METHOD:PUBLISH
X-WR-CALNAME:SINGPromos.com
X-ORIGINAL-URL:http://singpromos.com
X-WR-CALDESC:Events for SINGPromos.com
BEGIN:VEVENT
DTSTART:20201126T000000
DTEND:20201130T235900
DTSTAMP:20260420T062020
CREATED:20201124T151940
LAST-MODIFIED:20201124T151940
UID:241900@http://singpromos.com
SUMMARY:BLACK FRIDAY DEALS: The North Face offers STOREWIDE 50% off + additional 10% off footwear (From 26 - 30 Nov 2020)
DESCRIPTION:Shop from the latest collection which offers a wide range of styles at The North Face Blackout Sale!. For more information, visit [ http://singpromos.com/fashion-accessories/black-friday-deals-the-north-face-offers-storewide-50-off-additional-10-off-footwear-from-26-30-nov-2020-241900/ ]. 
LOCATION:
URL:http://singpromos.com/fashion-accessories/black-friday-deals-the-north-face-offers-storewide-50-off-additional-10-off-footwear-from-26-30-nov-2020-241900/
END:VEVENT
END:VCALENDAR