BEGIN:VCALENDAR
PRODID:-//SINGPromos.com//NONSGML v1.0//EN
VERSION:2.0
CALSCALE:GREGORIAN
METHOD:PUBLISH
X-WR-CALNAME:SINGPromos.com
X-ORIGINAL-URL:http://singpromos.com
X-WR-CALDESC:Events for SINGPromos.com
BEGIN:VEVENT
DTSTART:20210902T000000
DTEND:20210912T235900
DTSTAMP:20260424T032319
CREATED:20210901T035745
LAST-MODIFIED:20210902T185748
UID:248368@http://singpromos.com
SUMMARY:King Koil annual warehouse sale returns from 2 - 12 Sep 2021
DESCRIPTION:With new added locations and offers. For more information, visit [ http://singpromos.com/warehouse-sales/king-koil-annual-warehouse-sale-returns-from-2-12-sep-2021-248368/ ]. 
LOCATION:
URL:http://singpromos.com/warehouse-sales/king-koil-annual-warehouse-sale-returns-from-2-12-sep-2021-248368/
END:VEVENT
END:VCALENDAR