BEGIN:VCALENDAR
PRODID:-//SINGPromos.com//NONSGML v1.0//EN
VERSION:2.0
CALSCALE:GREGORIAN
METHOD:PUBLISH
X-WR-CALNAME:SINGPromos.com
X-ORIGINAL-URL:http://singpromos.com
X-WR-CALDESC:Events for SINGPromos.com
BEGIN:VEVENT
DTSTART:20211012T000000
DTEND:20211025T235900
DTSTAMP:20260424T025907
CREATED:20211012T222604
LAST-MODIFIED:20211023T004733
UID:249802@http://singpromos.com
SUMMARY:Harvey Norman Warehouse Sale Has Over $5 million Worth of Deals Going Below Factory Outlet Prices till 25 Oct 2021
DESCRIPTION:Up to 90% off. For more information, visit [ http://singpromos.com/warehouse-sales/harvey-norman-warehouse-sale-has-over-5-million-worth-of-deals-going-below-factory-outlet-prices-till-25-oct-2021-249802/ ]. 
LOCATION:750B Chai Chee Road, 469002
URL:http://singpromos.com/warehouse-sales/harvey-norman-warehouse-sale-has-over-5-million-worth-of-deals-going-below-factory-outlet-prices-till-25-oct-2021-249802/
END:VEVENT
END:VCALENDAR