BEGIN:VCALENDAR
PRODID:-//SINGPromos.com//NONSGML v1.0//EN
VERSION:2.0
CALSCALE:GREGORIAN
METHOD:PUBLISH
X-WR-CALNAME:SINGPromos.com
X-ORIGINAL-URL:http://singpromos.com
X-WR-CALDESC:Events for SINGPromos.com
BEGIN:VEVENT
DTSTART:20211126T000000
DTEND:20211130T235900
DTSTAMP:20260420T062106
CREATED:20211125T232012
LAST-MODIFIED:20211125T232012
UID:251595@http://singpromos.com
SUMMARY:The North Face is offering storewide from 40% off + additional 15% off with $180 nett spend from 26 - 30 Nov 2021
DESCRIPTION:One of the biggest sale you've been waiting for is here.. For more information, visit [ http://singpromos.com/fashion-accessories/the-north-face-is-offering-storewide-from-40-off-additional-15-off-with-180-nett-spend-from-26-30-nov-2021-251595/ ]. 
LOCATION:
URL:http://singpromos.com/fashion-accessories/the-north-face-is-offering-storewide-from-40-off-additional-15-off-with-180-nett-spend-from-26-30-nov-2021-251595/
END:VEVENT
END:VCALENDAR