BEGIN:VCALENDAR
PRODID:-//SINGPromos.com//NONSGML v1.0//EN
VERSION:2.0
CALSCALE:GREGORIAN
METHOD:PUBLISH
X-WR-CALNAME:SINGPromos.com
X-ORIGINAL-URL:http://singpromos.com
X-WR-CALDESC:Events for SINGPromos.com
BEGIN:VEVENT
DTSTART:20211221T000000
DTEND:20211230T235900
DTSTAMP:20260420T062107
CREATED:20211221T192335
LAST-MODIFIED:20211221T192335
UID:252512@http://singpromos.com
SUMMARY:The North Face is offering storewide 30% - 50% off at all stores till 30 Dec 2021
DESCRIPTION:December Storewide Bundle Deal!. For more information, visit [ http://singpromos.com/fashion-accessories/the-north-face-is-offering-storewide-30-50-off-at-all-stores-till-30-dec-2021-252512/ ]. 
LOCATION:
URL:http://singpromos.com/fashion-accessories/the-north-face-is-offering-storewide-30-50-off-at-all-stores-till-30-dec-2021-252512/
END:VEVENT
END:VCALENDAR