BEGIN:VCALENDAR
PRODID:-//SINGPromos.com//NONSGML v1.0//EN
VERSION:2.0
CALSCALE:GREGORIAN
METHOD:PUBLISH
X-WR-CALNAME:SINGPromos.com
X-ORIGINAL-URL:http://singpromos.com
X-WR-CALDESC:Events for SINGPromos.com
BEGIN:VEVENT
DTSTART:20220107T000000
DTEND:20220109T235900
DTSTAMP:20260424T025906
CREATED:20220106T201304
LAST-MODIFIED:20220108T045421
UID:253194@http://singpromos.com
SUMMARY:Harvey Norman Lunar New Year Warehouse Sale from 7 - 9 Jan 2022
DESCRIPTION:Expect to see Home & Kitchen Appliances from $11, Mattresses from $100, TVs from $219 and Sofas from $499!. For more information, visit [ http://singpromos.com/warehouse-sales/harvey-norman-lunar-new-year-warehouse-sale-from-7-9-jan-2022-253194/ ]. 
LOCATION:7 Jalan Besut, 619561
URL:http://singpromos.com/warehouse-sales/harvey-norman-lunar-new-year-warehouse-sale-from-7-9-jan-2022-253194/
END:VEVENT
END:VCALENDAR