BEGIN:VCALENDAR
PRODID:-//SINGPromos.com//NONSGML v1.0//EN
VERSION:2.0
CALSCALE:GREGORIAN
METHOD:PUBLISH
X-WR-CALNAME:SINGPromos.com
X-ORIGINAL-URL:http://singpromos.com
X-WR-CALDESC:Events for SINGPromos.com
BEGIN:VEVENT
DTSTART:20220110T000000
DTEND:20220112T235900
DTSTAMP:20260420T044318
CREATED:20220109T195329
LAST-MODIFIED:20220109T220004
UID:253295@http://singpromos.com
SUMMARY:McDelivery S'pore: Get free delivery with this promo code valid till 12 Jan 2022, 3 - 5pm daily
DESCRIPTION:Worth $4.00. For more information, visit [ http://singpromos.com/dining-restaurants-food/mcdelivery-spore-get-free-delivery-with-this-promo-code-valid-till-12-jan-2022-3-5pm-daily-253295/ ]. 
LOCATION:
URL:http://singpromos.com/dining-restaurants-food/mcdelivery-spore-get-free-delivery-with-this-promo-code-valid-till-12-jan-2022-3-5pm-daily-253295/
END:VEVENT
END:VCALENDAR