BEGIN:VCALENDAR
PRODID:-//SINGPromos.com//NONSGML v1.0//EN
VERSION:2.0
CALSCALE:GREGORIAN
METHOD:PUBLISH
X-WR-CALNAME:SINGPromos.com
X-ORIGINAL-URL:http://singpromos.com
X-WR-CALDESC:Events for SINGPromos.com
BEGIN:VEVENT
DTSTART:20220124T000000
DTEND:20220130T235900
DTSTAMP:20260420T044428
CREATED:20220124T124134
LAST-MODIFIED:20220124T124134
UID:253953@http://singpromos.com
SUMMARY:Deliveroo: Enjoy $8 off your order with this promo code valid till 30 Jan 2022
DESCRIPTION:Good fortune awaits.. For more information, visit [ http://singpromos.com/dining-restaurants-food/deliveroo-enjoy-8-off-your-order-with-this-promo-code-valid-till-30-jan-2022-253953/ ]. 
LOCATION:
URL:http://singpromos.com/dining-restaurants-food/deliveroo-enjoy-8-off-your-order-with-this-promo-code-valid-till-30-jan-2022-253953/
END:VEVENT
END:VCALENDAR