BEGIN:VCALENDAR
PRODID:-//SINGPromos.com//NONSGML v1.0//EN
VERSION:2.0
CALSCALE:GREGORIAN
METHOD:PUBLISH
X-WR-CALNAME:SINGPromos.com
X-ORIGINAL-URL:http://singpromos.com
X-WR-CALDESC:Events for SINGPromos.com
BEGIN:VEVENT
DTSTART:20220207T000000
DTEND:20220213T235900
DTSTAMP:20260420T044422
CREATED:20220207T170223
LAST-MODIFIED:20220207T170223
UID:254399@http://singpromos.com
SUMMARY:Deliveroo: Enjoy $8 off your order with this promo code valid till 13 Feb 2022
DESCRIPTION:The fun isn't over yet!. For more information, visit [ http://singpromos.com/dining-restaurants-food/deliveroo-enjoy-8-off-your-order-with-this-promo-code-valid-till-13-feb-2022-254399/ ]. 
LOCATION:
URL:http://singpromos.com/dining-restaurants-food/deliveroo-enjoy-8-off-your-order-with-this-promo-code-valid-till-13-feb-2022-254399/
END:VEVENT
END:VCALENDAR