BEGIN:VCALENDAR
PRODID:-//SINGPromos.com//NONSGML v1.0//EN
VERSION:2.0
CALSCALE:GREGORIAN
METHOD:PUBLISH
X-WR-CALNAME:SINGPromos.com
X-ORIGINAL-URL:http://singpromos.com
X-WR-CALDESC:Events for SINGPromos.com
BEGIN:VEVENT
DTSTART:20220318T000000
DTEND:20220320T235900
DTSTAMP:20260424T025958
CREATED:20220317T104018
LAST-MODIFIED:20220315T134555
UID:255530@http://singpromos.com
SUMMARY:Harvey Norman Massive Warehouse Sale from March 18 to 20 has over $6 million worth of products to clear
DESCRIPTION:Grab this chance to get a new washer, fridge, TV, sofa, dining chairs, or mattresses. For more information, visit [ http://singpromos.com/warehouse-sales/harvey-norman-massive-warehouse-sale-from-march-18-to-20-has-over-6-million-worth-of-products-to-clear-255530/ ]. 
LOCATION:619561
URL:http://singpromos.com/warehouse-sales/harvey-norman-massive-warehouse-sale-from-march-18-to-20-has-over-6-million-worth-of-products-to-clear-255530/
END:VEVENT
END:VCALENDAR