BEGIN:VCALENDAR
PRODID:-//SINGPromos.com//NONSGML v1.0//EN
VERSION:2.0
CALSCALE:GREGORIAN
METHOD:PUBLISH
X-WR-CALNAME:SINGPromos.com
X-ORIGINAL-URL:http://singpromos.com
X-WR-CALDESC:Events for SINGPromos.com
BEGIN:VEVENT
DTSTART:20220301T000000
DTEND:20220331T235900
DTSTAMP:20260420T044429
CREATED:20220316T083208
LAST-MODIFIED:20220316T083208
UID:255539@http://singpromos.com
SUMMARY:Chateraise: FREE islandwide delivery for March with minimum spend of $20 till March 31st 2022
DESCRIPTION:Staying at home but craving for Chateraise desserts?. For more information, visit [ http://singpromos.com/dining-restaurants-food/chateraise-free-islandwide-delivery-for-march-with-minimum-spend-of-20-till-march-31st-2022-255539/ ]. 
LOCATION:
URL:http://singpromos.com/dining-restaurants-food/chateraise-free-islandwide-delivery-for-march-with-minimum-spend-of-20-till-march-31st-2022-255539/
END:VEVENT
END:VCALENDAR