BEGIN:VCALENDAR
PRODID:-//SINGPromos.com//NONSGML v1.0//EN
VERSION:2.0
CALSCALE:GREGORIAN
METHOD:PUBLISH
X-WR-CALNAME:SINGPromos.com
X-ORIGINAL-URL:http://singpromos.com
X-WR-CALDESC:Events for SINGPromos.com
BEGIN:VEVENT
DTSTART:20220408T000000
DTEND:20220430T235900
DTSTAMP:20260420T062020
CREATED:20220409T125732
LAST-MODIFIED:20220409T150547
UID:256285@http://singpromos.com
SUMMARY:ALGO: Get a FREE ALGO rice stocker (worth $21.90) when you buy the new ALGO Galaxy Borosilicate Glass set till 30 Apr
DESCRIPTION:ALGO is launching 2022 latest design of Borosilicate glass container set- Galaxy Container (4pcs) in April 2022.. For more information, visit [ http://singpromos.com/household/algo-get-a-free-algo-rice-stocker-worth-21-90-when-you-buy-the-new-algo-galaxy-borosilicate-glass-set-till-30-apr-256285/ ]. 
LOCATION:
URL:http://singpromos.com/household/algo-get-a-free-algo-rice-stocker-worth-21-90-when-you-buy-the-new-algo-galaxy-borosilicate-glass-set-till-30-apr-256285/
END:VEVENT
END:VCALENDAR