BEGIN:VCALENDAR
PRODID:-//SINGPromos.com//NONSGML v1.0//EN
VERSION:2.0
CALSCALE:GREGORIAN
METHOD:PUBLISH
X-WR-CALNAME:SINGPromos.com
X-ORIGINAL-URL:http://singpromos.com
X-WR-CALDESC:Events for SINGPromos.com
BEGIN:VEVENT
DTSTART:20220916T000000
DTEND:20220918T235900
DTSTAMP:20260424T025957
CREATED:20220915T155328
LAST-MODIFIED:20220915T155430
UID:260575@http://singpromos.com
SUMMARY:Harvey Norman Massive Warehouse Sale from Sept 16 to 18 has over $6 million worth of stocks to clear
DESCRIPTION:Small appliances starting from $10, furniture from $60 and more. For more information, visit [ http://singpromos.com/warehouse-sales/harvey-norman-massive-warehouse-sale-from-sept-16-to-18-has-over-6-million-worth-of-stocks-to-clear-260575/ ]. 
LOCATION:619561
URL:http://singpromos.com/warehouse-sales/harvey-norman-massive-warehouse-sale-from-sept-16-to-18-has-over-6-million-worth-of-stocks-to-clear-260575/
END:VEVENT
END:VCALENDAR