BEGIN:VCALENDAR
PRODID:-//SINGPromos.com//NONSGML v1.0//EN
VERSION:2.0
CALSCALE:GREGORIAN
METHOD:PUBLISH
X-WR-CALNAME:SINGPromos.com
X-ORIGINAL-URL:http://singpromos.com
X-WR-CALDESC:Events for SINGPromos.com
BEGIN:VEVENT
DTSTART:20230106T000000
DTEND:20230108T235900
DTSTAMP:20260424T025957
CREATED:20230106T130032
LAST-MODIFIED:20230106T220621
UID:263946@http://singpromos.com
SUMMARY:Harvey Norman Lunar New Year Warehouse Sale now on at 7 Jalan Besut till 8 Jan 2023
DESCRIPTION:Up to 80% off Electrical, Furniture and Bedding products. For more information, visit [ http://singpromos.com/warehouse-sales/harvey-norman-lunar-new-year-warehouse-sale-now-on-at-7-jalan-besut-till-8-jan-2023-263946/ ]. 
LOCATION:619561
URL:http://singpromos.com/warehouse-sales/harvey-norman-lunar-new-year-warehouse-sale-now-on-at-7-jalan-besut-till-8-jan-2023-263946/
END:VEVENT
END:VCALENDAR