BEGIN:VCALENDAR
PRODID:-//SINGPromos.com//NONSGML v1.0//EN
VERSION:2.0
CALSCALE:GREGORIAN
METHOD:PUBLISH
X-WR-CALNAME:SINGPromos.com
X-ORIGINAL-URL:http://singpromos.com
X-WR-CALDESC:Events for SINGPromos.com
BEGIN:VEVENT
DTSTART:20230519T000000
DTEND:20230521T235900
DTSTAMP:20260420T031301
CREATED:20230516T160117
LAST-MODIFIED:20230511T163536
UID:267229@http://singpromos.com
SUMMARY:Up to 80% off at Brandt SAFRA Toa Payoh SALE + Sure Win Lucky Dip prizes (19th - 21st May 2023)
DESCRIPTION:Upgrade your home with home appliance essentials at unbeatable prices. For more information, visit [ http://singpromos.com/warehouse-sales/up-to-80-off-at-brandt-safra-toa-payoh-sale-sure-win-lucky-dip-prizes-19th-21st-may-2023-267229/ ]. 
LOCATION:319387
URL:http://singpromos.com/warehouse-sales/up-to-80-off-at-brandt-safra-toa-payoh-sale-sure-win-lucky-dip-prizes-19th-21st-may-2023-267229/
END:VEVENT
END:VCALENDAR