BEGIN:VCALENDAR
PRODID:-//SINGPromos.com//NONSGML v1.0//EN
VERSION:2.0
CALSCALE:GREGORIAN
METHOD:PUBLISH
X-WR-CALNAME:SINGPromos.com
X-ORIGINAL-URL:http://singpromos.com
X-WR-CALDESC:Events for SINGPromos.com
BEGIN:VEVENT
DTSTART:20230601T000000
DTEND:20230604T235900
DTSTAMP:20260420T055052
CREATED:20230531T110301
LAST-MODIFIED:20230528T111744
UID:267642@http://singpromos.com
SUMMARY:Up to 90% off at Unrival Warehouse Sale from 1 - 4 Jun 2023
DESCRIPTION:Gaming products, including consoles, games, and accessories from Nintendo Switch to Xbox & Playstation. For more information, visit [ http://singpromos.com/warehouse-sales/up-to-90-off-at-unrival-warehouse-sale-from-1-4-jun-2023-267642/ ]. 
LOCATION:21 Ubi Rd 1, 408724
URL:http://singpromos.com/warehouse-sales/up-to-90-off-at-unrival-warehouse-sale-from-1-4-jun-2023-267642/
END:VEVENT
END:VCALENDAR