BEGIN:VCALENDAR
PRODID:-//SINGPromos.com//NONSGML v1.0//EN
VERSION:2.0
CALSCALE:GREGORIAN
METHOD:PUBLISH
X-WR-CALNAME:SINGPromos.com
X-ORIGINAL-URL:http://singpromos.com
X-WR-CALDESC:Events for SINGPromos.com
BEGIN:VEVENT
DTSTART:20230801T000000
DTEND:20230831T235900
DTSTAMP:20260424T014030
CREATED:20230801T004740
LAST-MODIFIED:20230801T004740
UID:269245@http://singpromos.com
SUMMARY:UOB S'pore offering 2.70% p.a. with the latest 6/10-month SGD fixed deposit promo till 31 Aug 2023
DESCRIPTION:Grab UOB's promotional offers and work your money harder today. For more information, visit [ http://singpromos.com/banks-credit-cards/uob-spore-offering-2-70-p-a-with-the-latest-6-10-month-sgd-fixed-deposit-promo-till-31-aug-2023-269245/ ]. 
LOCATION:
URL:http://singpromos.com/banks-credit-cards/uob-spore-offering-2-70-p-a-with-the-latest-6-10-month-sgd-fixed-deposit-promo-till-31-aug-2023-269245/
END:VEVENT
END:VCALENDAR