BEGIN:VCALENDAR
PRODID:-//SINGPromos.com//NONSGML v1.0//EN
VERSION:2.0
CALSCALE:GREGORIAN
METHOD:PUBLISH
X-WR-CALNAME:SINGPromos.com
X-ORIGINAL-URL:http://singpromos.com
X-WR-CALDESC:Events for SINGPromos.com
BEGIN:VEVENT
DTSTART:20230801T000000
DTEND:20230831T235900
DTSTAMP:20260424T013940
CREATED:20230801T045410
LAST-MODIFIED:20230805T004710
UID:269247@http://singpromos.com
SUMMARY:Citibank S'pore offering up to 3.20% p.a. with the latest time fixed deposit promo till 31 Aug 2023
DESCRIPTION:SGD Time Deposit Promotion. For more information, visit [ http://singpromos.com/banks-credit-cards/citibank-spore-offering-up-to-3-20-p-a-with-the-latest-time-fixed-deposit-promo-till-31-aug-2023-269247/ ]. 
LOCATION:
URL:http://singpromos.com/banks-credit-cards/citibank-spore-offering-up-to-3-20-p-a-with-the-latest-time-fixed-deposit-promo-till-31-aug-2023-269247/
END:VEVENT
END:VCALENDAR