BEGIN:VCALENDAR
PRODID:-//SINGPromos.com//NONSGML v1.0//EN
VERSION:2.0
CALSCALE:GREGORIAN
METHOD:PUBLISH
X-WR-CALNAME:SINGPromos.com
X-ORIGINAL-URL:http://singpromos.com
X-WR-CALDESC:Events for SINGPromos.com
BEGIN:VEVENT
DTSTART:20230801T000000
DTEND:20230831T235900
DTSTAMP:20260424T032312
CREATED:20230801T130955
LAST-MODIFIED:20230801T130955
UID:269263@http://singpromos.com
SUMMARY:Standard Chartered S'pore offering up to 3.20% p.a. with the latest SGD Time Deposit till 31 Aug 2023
DESCRIPTION:Earn attractive returns. For more information, visit [ http://singpromos.com/banks-credit-cards/standard-chartered-spore-offering-up-to-3-20-p-a-with-the-latest-sgd-time-deposit-till-31-aug-2023-269263/ ]. 
LOCATION:
URL:http://singpromos.com/banks-credit-cards/standard-chartered-spore-offering-up-to-3-20-p-a-with-the-latest-sgd-time-deposit-till-31-aug-2023-269263/
END:VEVENT
END:VCALENDAR