BEGIN:VCALENDAR
PRODID:-//SINGPromos.com//NONSGML v1.0//EN
VERSION:2.0
CALSCALE:GREGORIAN
METHOD:PUBLISH
X-WR-CALNAME:SINGPromos.com
X-ORIGINAL-URL:http://singpromos.com
X-WR-CALDESC:Events for SINGPromos.com
BEGIN:VEVENT
DTSTART:20230801T000000
DTEND:20230930T235900
DTSTAMP:20260424T032318
CREATED:20230801T131820
LAST-MODIFIED:20230801T131842
UID:269265@http://singpromos.com
SUMMARY:Maybank S'pore offering up to 3.50% p.a. when you deposit fresh funds till 30 Sep 2023
DESCRIPTION:Get your fill of higher savings. For more information, visit [ http://singpromos.com/banks-credit-cards/maybank-spore-offering-up-to-3-50-p-a-when-you-deposit-fresh-funds-till-30-sep-2023-269265/ ]. 
LOCATION:
URL:http://singpromos.com/banks-credit-cards/maybank-spore-offering-up-to-3-50-p-a-when-you-deposit-fresh-funds-till-30-sep-2023-269265/
END:VEVENT
END:VCALENDAR