BEGIN:VCALENDAR
PRODID:-//SINGPromos.com//NONSGML v1.0//EN
VERSION:2.0
CALSCALE:GREGORIAN
METHOD:PUBLISH
X-WR-CALNAME:SINGPromos.com
X-ORIGINAL-URL:http://singpromos.com
X-WR-CALDESC:Events for SINGPromos.com
BEGIN:VEVENT
DTSTART:20230801T000000
DTEND:20230808T235900
DTSTAMP:20260424T032420
CREATED:20230801T162147
LAST-MODIFIED:20230801T163110
UID:269274@http://singpromos.com
SUMMARY:Buy-1-Get-1-Free Salted Egg Wrap at Texas Chicken S'pore outlets till 8 Aug, pay only S$5.25 each
DESCRIPTION:There are also other app-exclusive deals at up to 50% off. For more information, visit [ http://singpromos.com/dining-restaurants-food/buy-1-get-1-free-salted-egg-wrap-at-texas-chicken-spore-outlets-till-8-aug-pay-only-s5-each-269274/ ]. 
LOCATION:
URL:http://singpromos.com/dining-restaurants-food/buy-1-get-1-free-salted-egg-wrap-at-texas-chicken-spore-outlets-till-8-aug-pay-only-s5-each-269274/
END:VEVENT
END:VCALENDAR