BEGIN:VCALENDAR
PRODID:-//SINGPromos.com//NONSGML v1.0//EN
VERSION:2.0
CALSCALE:GREGORIAN
METHOD:PUBLISH
X-WR-CALNAME:SINGPromos.com
X-ORIGINAL-URL:http://singpromos.com
X-WR-CALDESC:Events for SINGPromos.com
BEGIN:VEVENT
DTSTART:20230801T000000
DTEND:20230828T235900
DTSTAMP:20260424T032420
CREATED:20230801T171252
LAST-MODIFIED:20230801T171252
UID:269284@http://singpromos.com
SUMMARY:Singapore Savings Bond (SSB) offers up to 3.06% p.a. in the latest bond - Apply by 28 August 2023
DESCRIPTION:Earn returns with a minimum sum of $500 in the latest Singapore Savings Bond. For more information, visit [ http://singpromos.com/banks-credit-cards/singapore-savings-bond-ssb-offers-up-to-3-06-p-a-in-the-latest-bond-apply-by-28-august-2023-269284/ ]. 
LOCATION:
URL:http://singpromos.com/banks-credit-cards/singapore-savings-bond-ssb-offers-up-to-3-06-p-a-in-the-latest-bond-apply-by-28-august-2023-269284/
END:VEVENT
END:VCALENDAR