BEGIN:VCALENDAR
PRODID:-//SINGPromos.com//NONSGML v1.0//EN
VERSION:2.0
CALSCALE:GREGORIAN
METHOD:PUBLISH
X-WR-CALNAME:SINGPromos.com
X-ORIGINAL-URL:http://singpromos.com
X-WR-CALDESC:Events for SINGPromos.com
BEGIN:VEVENT
DTSTART:20230801T000000
DTEND:20230831T235900
DTSTAMP:20260424T032420
CREATED:20230802T030103
LAST-MODIFIED:20230802T134900
UID:269293@http://singpromos.com
SUMMARY:BusOnlineTicket promo code offers 8% Off + an additional 8% Cashback till 31 Aug, travel up to 16 Sep
DESCRIPTION:The unbeatable BOTravel Deals are here. For more information, visit [ http://singpromos.com/places-of-interest/busonlineticket-promo-code-offes-8-off-an-additional-8-cashback-till-31-aug-travel-up-to-16-sep-269293/ ]. 
LOCATION:
URL:http://singpromos.com/places-of-interest/busonlineticket-promo-code-offes-8-off-an-additional-8-cashback-till-31-aug-travel-up-to-16-sep-269293/
END:VEVENT
END:VCALENDAR