BEGIN:VCALENDAR
PRODID:-//SINGPromos.com//NONSGML v1.0//EN
VERSION:2.0
CALSCALE:GREGORIAN
METHOD:PUBLISH
X-WR-CALNAME:SINGPromos.com
X-ORIGINAL-URL:http://singpromos.com
X-WR-CALDESC:Events for SINGPromos.com
BEGIN:VEVENT
DTSTART:20230831T000000
DTEND:20230831T235900
DTSTAMP:20260424T000336
CREATED:20230831T105058
LAST-MODIFIED:20230801T225146
UID:269296@http://singpromos.com
SUMMARY:Baskin-Robbins S'pore offering 31% off handpacked ice cream at all outlets on 31 Aug 2023
DESCRIPTION:Time to stock up on your favourites. For more information, visit [ http://singpromos.com/dining-restaurants-food/baskin-robbins-spore-offering-31-off-handpacked-ice-cream-at-all-outlets-on-31-aug-2023-269296/ ]. 
LOCATION:
URL:http://singpromos.com/dining-restaurants-food/baskin-robbins-spore-offering-31-off-handpacked-ice-cream-at-all-outlets-on-31-aug-2023-269296/
END:VEVENT
END:VCALENDAR