BEGIN:VCALENDAR
PRODID:-//SINGPromos.com//NONSGML v1.0//EN
VERSION:2.0
CALSCALE:GREGORIAN
METHOD:PUBLISH
X-WR-CALNAME:SINGPromos.com
X-ORIGINAL-URL:http://singpromos.com
X-WR-CALDESC:Events for SINGPromos.com
BEGIN:VEVENT
DTSTART:20230803T000000
DTEND:20230806T235900
DTSTAMP:20260424T032420
CREATED:20230803T065522
LAST-MODIFIED:20230803T005731
UID:269320@http://singpromos.com
SUMMARY:Watsons is offering 30% off all skincare for 4-days only till 6 Aug 2023
DESCRIPTION:Time to stock up on your skincare essentials. For more information, visit [ http://singpromos.com/beauty/watsons-is-offering-30-off-all-skincare-for-4-days-only-till-6-aug-2023-269320/ ]. 
LOCATION:
URL:http://singpromos.com/beauty/watsons-is-offering-30-off-all-skincare-for-4-days-only-till-6-aug-2023-269320/
END:VEVENT
END:VCALENDAR