BEGIN:VCALENDAR
PRODID:-//SINGPromos.com//NONSGML v1.0//EN
VERSION:2.0
CALSCALE:GREGORIAN
METHOD:PUBLISH
X-WR-CALNAME:SINGPromos.com
X-ORIGINAL-URL:http://singpromos.com
X-WR-CALDESC:Events for SINGPromos.com
BEGIN:VEVENT
DTSTART:20230803T000000
DTEND:20230809T235900
DTSTAMP:20260424T032413
CREATED:20230803T042210
LAST-MODIFIED:20230803T173023
UID:269323@http://singpromos.com
SUMMARY:Watsons S'pore 8.8 Online Shopathon promo offers up to $28 off at online store with these codes till 9 Aug 2023
DESCRIPTION:8.8 Online Shopathon. For more information, visit [ http://singpromos.com/department-stores/watsons-spore-8-8-online-shopathon-promo-offers-up-to-28-off-at-online-store-with-these-codes-till-9-aug-2023-269323/ ]. 
LOCATION:
URL:http://singpromos.com/department-stores/watsons-spore-8-8-online-shopathon-promo-offers-up-to-28-off-at-online-store-with-these-codes-till-9-aug-2023-269323/
END:VEVENT
END:VCALENDAR