BEGIN:VCALENDAR
PRODID:-//SINGPromos.com//NONSGML v1.0//EN
VERSION:2.0
CALSCALE:GREGORIAN
METHOD:PUBLISH
X-WR-CALNAME:SINGPromos.com
X-ORIGINAL-URL:http://singpromos.com
X-WR-CALDESC:Events for SINGPromos.com
BEGIN:VEVENT
DTSTART:20230802T000000
DTEND:20230903T235900
DTSTAMP:20260424T032413
CREATED:20230803T112117
LAST-MODIFIED:20230831T110559
UID:269336@http://singpromos.com
SUMMARY:Brand's S'pore online store is offering up to S$35 off with these codes valid till 3 Sep 2023
DESCRIPTION:Save at Brand's S'pore online store. For more information, visit [ http://singpromos.com/health/brands-spore-online-store-is-offering-up-to-s35-off-with-these-codes-valid-till-31-aug-2023-269336/ ]. 
LOCATION:
URL:http://singpromos.com/health/brands-spore-online-store-is-offering-up-to-s35-off-with-these-codes-valid-till-31-aug-2023-269336/
END:VEVENT
END:VCALENDAR