BEGIN:VCALENDAR
PRODID:-//SINGPromos.com//NONSGML v1.0//EN
VERSION:2.0
CALSCALE:GREGORIAN
METHOD:PUBLISH
X-WR-CALNAME:SINGPromos.com
X-ORIGINAL-URL:http://singpromos.com
X-WR-CALDESC:Events for SINGPromos.com
BEGIN:VEVENT
DTSTART:20230804T000000
DTEND:20230811T235900
DTSTAMP:20260424T032312
CREATED:20230803T140726
LAST-MODIFIED:20230803T141234
UID:269341@http://singpromos.com
SUMMARY:StarHub TV customers enjoy free preview of over 90 TV channels from 4 - 11 Aug 2023
DESCRIPTION:Catch the hottest shows this National Day. For more information, visit [ http://singpromos.com/telecoms/starhub-tv-customers-enjoy-free-preview-of-over-90-tv-channels-from-4-11-aug-2023-269341/ ]. 
LOCATION:
URL:http://singpromos.com/telecoms/starhub-tv-customers-enjoy-free-preview-of-over-90-tv-channels-from-4-11-aug-2023-269341/
END:VEVENT
END:VCALENDAR