BEGIN:VCALENDAR
PRODID:-//SINGPromos.com//NONSGML v1.0//EN
VERSION:2.0
CALSCALE:GREGORIAN
METHOD:PUBLISH
X-WR-CALNAME:SINGPromos.com
X-ORIGINAL-URL:http://singpromos.com
X-WR-CALDESC:Events for SINGPromos.com
BEGIN:VEVENT
DTSTART:20230804T000000
DTEND:20230806T235900
DTSTAMP:20260424T032413
CREATED:20230803T160720
LAST-MODIFIED:20230803T172937
UID:269344@http://singpromos.com
SUMMARY:Fairprice selling live tiger prawns at $19.90/kg at selected outlets from 4 - 6 Aug 2023
DESCRIPTION:This National Day, level up your festive feasts with succulent Tiger Prawns. For more information, visit [ http://singpromos.com/dining-restaurants-food/fairprice-selling-live-tiger-prawns-at-19-90-kg-at-selected-outlets-from-4-6-aug-2023-269344/ ]. 
LOCATION:
URL:http://singpromos.com/dining-restaurants-food/fairprice-selling-live-tiger-prawns-at-19-90-kg-at-selected-outlets-from-4-6-aug-2023-269344/
END:VEVENT
END:VCALENDAR